BEGIN:VCALENDAR
VERSION:2.0
PRODID:-//fmptic.org//NONSGML kigkonsult.se iCalcreator 2.30.10//
CALSCALE:GREGORIAN
METHOD:PUBLISH
UID:f60cd6c2-856c-40a7-a657-68d8cbeb063e
X-WR-CALDESC:This interactive 8-week series is designed to help youth build
  real-life social skills for friendships\, school\, work\, and independenc
 e. Each session includes discussion\, activities\, and opportunities to pr
 actice skills in a supportive environment.\n\nJune 3rd\, 2026 2:30 PM\, Wh
 at Is Social Awareness & Why Does it  Matter\nJune 10th 2026 2:30 PM\, Und
 erstanding Emotions & Self-Awareness \nJune 17th 2026 2:30 PM\, Understand
 ing Others & Building Healthy Relationships\nJune 24th 2026 2:30 PM\, Comm
 unication Skills & Conflict Resolution\nJuly 1st\, 2026 2:30 PM\, Friendsh
 ip Skills in Action\nJuly 8th\, 2026 2:30 PM\, Social Awareness at Work\, 
 in The Community & Online Safety\nJuly 15th\, 2026 2:30 PM\, Self-Advocacy
  & Speaking Up\nJuly 22nd\, 2026 2:30 PM\, Putting It All Together
X-WR-RELCALID:2594e1282d5647b20ccd12bfb00caf46
X-WR-TIMEZONE:America/Chicago
BEGIN:VTIMEZONE
TZID:America/Chicago
BEGIN:STANDARD
TZNAME:CST
DTSTART:20251102T020000
TZOFFSETFROM:-0500
TZOFFSETTO:-0600
RDATE:20261101T020000
RDATE:20271107T020000
END:STANDARD
BEGIN:DAYLIGHT
TZNAME:CDT
DTSTART:20260308T020000
TZOFFSETFROM:-0600
TZOFFSETTO:-0500
RDATE:20270314T020000
END:DAYLIGHT
END:VTIMEZONE
BEGIN:VEVENT
UID:84cea3bb-8e1e-4249-bef9-d773d0cb821c
DTSTAMP:20260424T133207Z
DESCRIPTION:This interactive 8-week series is designed to help youth build 
 real-life social skills for friendships\, school\, work\, and independence
 . Each session includes discussion\, activities\, and opportunities to pra
 ctice skills in a supportive environment.\n\nJune 3rd\, 2026 2:30 PM\, Wha
 t Is Social Awareness & Why Does it  Matter\nJune 10th 2026 2:30 PM\, Unde
 rstanding Emotions & Self-Awareness \nJune 17th 2026 2:30 PM\, Understandi
 ng Others & Building Healthy Relationships\nJune 24th 2026 2:30 PM\, Commu
 nication Skills & Conflict Resolution\nJuly 1st\, 2026 2:30 PM\, Friendshi
 p Skills in Action\nJuly 8th\, 2026 2:30 PM\, Social Awareness at Work\, i
 n The Community & Online Safety\nJuly 15th\, 2026 2:30 PM\, Self-Advocacy 
 & Speaking Up\nJuly 22nd\, 2026 2:30 PM\, Putting It All Together
DTSTART;TZID=America/Chicago:20260603T143000
DTEND;TZID=America/Chicago:20260603T153000
LOCATION:https://zoom.us/meeting/register/QbSVufIfTwOUweuTSYmBpQ#/registrat
 ion
SUMMARY:Level Up Your Social Awareness
END:VEVENT
END:VCALENDAR
