BEGIN:VCALENDAR
VERSION:2.0
PRODID:-//fmptic.org//NONSGML kigkonsult.se iCalcreator 2.30.10//
CALSCALE:GREGORIAN
METHOD:PUBLISH
UID:eca22741-f0b4-444a-b43f-2f46c09b7e70
X-WR-CALDESC:This session introduces the Life Trajectory Planning Tool\, wh
 ich supports direction-based planning for individuals with disabilities. P
 articipants identify “good life” and “not a good life” outcomes\, explore 
 how fear-based planning limits opportunities\, and learn to reframe decisi
 ons. The session emphasizes taking small\, actionable steps toward a meani
 ngful\, self-directed future.
X-WR-RELCALID:0e42fb59d061adadc9d8159d0cf637ef
X-WR-TIMEZONE:America/Chicago
BEGIN:VTIMEZONE
TZID:America/Chicago
BEGIN:STANDARD
TZNAME:CST
DTSTART:20251102T020000
TZOFFSETFROM:-0500
TZOFFSETTO:-0600
RDATE:20261101T020000
RDATE:20271107T020000
END:STANDARD
BEGIN:DAYLIGHT
TZNAME:CDT
DTSTART:20260308T020000
TZOFFSETFROM:-0600
TZOFFSETTO:-0500
RDATE:20270314T020000
END:DAYLIGHT
END:VTIMEZONE
BEGIN:VEVENT
UID:5f6eb318-2f76-4be1-9159-22328e268222
DTSTAMP:20260424T132204Z
DESCRIPTION:This session introduces the Life Trajectory Planning Tool\, whi
 ch supports direction-based planning for individuals with disabilities. Pa
 rticipants identify “good life” and “not a good life” outcomes\, explore h
 ow fear-based planning limits opportunities\, and learn to reframe decisio
 ns. The session emphasizes taking small\, actionable steps toward a meanin
 gful\, self-directed future.
DTSTART;TZID=America/Chicago:20260521T120000
DTEND;TZID=America/Chicago:20260521T130000
LOCATION:https://us06web.zoom.us/meeting/register/S4c4xLVWR_GvV3D0oPtxJQ#/r
 egistration
SUMMARY:Family Matters PTIC Presents: Charting the LifeCourse Monthly Lunch
  & Learn Series
END:VEVENT
END:VCALENDAR
